BEGIN:VCALENDAR
VERSION:2.0
PRODID:-//Tortuga Twins - ECPv6.15.20//NONSGML v1.0//EN
CALSCALE:GREGORIAN
METHOD:PUBLISH
X-WR-CALNAME:Tortuga Twins
X-ORIGINAL-URL:https://www.tortugatwins.com
X-WR-CALDESC:Events for Tortuga Twins
REFRESH-INTERVAL;VALUE=DURATION:PT1H
X-Robots-Tag:noindex
X-PUBLISHED-TTL:PT1H
BEGIN:VTIMEZONE
TZID:America/New_York
BEGIN:DAYLIGHT
TZOFFSETFROM:-0500
TZOFFSETTO:-0400
TZNAME:EDT
DTSTART:20220313T070000
END:DAYLIGHT
BEGIN:STANDARD
TZOFFSETFROM:-0400
TZOFFSETTO:-0500
TZNAME:EST
DTSTART:20221106T060000
END:STANDARD
BEGIN:DAYLIGHT
TZOFFSETFROM:-0500
TZOFFSETTO:-0400
TZNAME:EDT
DTSTART:20230312T070000
END:DAYLIGHT
BEGIN:STANDARD
TZOFFSETFROM:-0400
TZOFFSETTO:-0500
TZNAME:EST
DTSTART:20231105T060000
END:STANDARD
BEGIN:DAYLIGHT
TZOFFSETFROM:-0500
TZOFFSETTO:-0400
TZNAME:EDT
DTSTART:20240310T070000
END:DAYLIGHT
BEGIN:STANDARD
TZOFFSETFROM:-0400
TZOFFSETTO:-0500
TZNAME:EST
DTSTART:20241103T060000
END:STANDARD
END:VTIMEZONE
BEGIN:VEVENT
DTSTART;VALUE=DATE:20230916
DTEND;VALUE=DATE:20230918
DTSTAMP:20260423T012316
CREATED:20230713T155501Z
LAST-MODIFIED:20230713T155501Z
UID:24867-1694822400-1694995199@www.tortugatwins.com
SUMMARY:MINNESOTA RENAISSANCE FESTIVAL
DESCRIPTION:OPENS 19 August.\nWith: Scaramouche and Raphael will perform SIX WEEKENDS!  D'Angelo will do ALL SEVEN weekends\nThe OVERLAP/FINAL WEEKEND will feature guest Tortugas and D'Angelo
URL:https://www.tortugatwins.com/schedule/minnesota-renaissance-festival-15/
LOCATION:Minnesota Renaissance Festival\, 12364 Chestnut Blvd.\, Shakopee\, MN\, 55379\, United States
CATEGORIES:Appearances,Minnesota
END:VEVENT
BEGIN:VEVENT
DTSTART;VALUE=DATE:20230909
DTEND;VALUE=DATE:20230911
DTSTAMP:20260423T012316
CREATED:20230713T155410Z
LAST-MODIFIED:20230713T155410Z
UID:24865-1694217600-1694390399@www.tortugatwins.com
SUMMARY:MINNESOTA RENAISSANCE FESTIVAL
DESCRIPTION:OPENS 19 August.\nWith: Scaramouche and Raphael will perform SIX WEEKENDS!  D'Angelo will do ALL SEVEN weekends\nThe OVERLAP/FINAL WEEKEND will feature guest Tortugas and D'Angelo
URL:https://www.tortugatwins.com/schedule/minnesota-renaissance-festival-14/
LOCATION:Minnesota Renaissance Festival\, 12364 Chestnut Blvd.\, Shakopee\, MN\, 55379\, United States
CATEGORIES:Appearances,Minnesota
END:VEVENT
BEGIN:VEVENT
DTSTART;VALUE=DATE:20230902
DTEND;VALUE=DATE:20230904
DTSTAMP:20260423T012316
CREATED:20230713T155321Z
LAST-MODIFIED:20230713T155321Z
UID:24863-1693612800-1693785599@www.tortugatwins.com
SUMMARY:MINNESOTA RENAISSANCE FESTIVAL
DESCRIPTION:OPENS 19 August.\nWith: Scaramouche and Raphael will perform SIX WEEKENDS!  D'Angelo will do ALL SEVEN weekends\nThe OVERLAP/FINAL WEEKEND will feature guest Tortugas and D'Angelo
URL:https://www.tortugatwins.com/schedule/minnesota-renaissance-festival-13/
LOCATION:Minnesota Renaissance Festival\, 12364 Chestnut Blvd.\, Shakopee\, MN\, 55379\, United States
CATEGORIES:Appearances,Minnesota
END:VEVENT
BEGIN:VEVENT
DTSTART;VALUE=DATE:20230826
DTEND;VALUE=DATE:20230828
DTSTAMP:20260423T012316
CREATED:20230713T155238Z
LAST-MODIFIED:20230713T155238Z
UID:24861-1693008000-1693180799@www.tortugatwins.com
SUMMARY:MINNESOTA RENAISSANCE FESTIVAL
DESCRIPTION:OPENS 19 August.\nWith: Scaramouche and Raphael will perform SIX WEEKENDS!  D'Angelo will do ALL SEVEN weekends\nThe OVERLAP/FINAL WEEKEND will feature guest Tortugas and D'Angelo
URL:https://www.tortugatwins.com/schedule/minnesota-renaissance-festival-12/
LOCATION:Minnesota Renaissance Festival\, 12364 Chestnut Blvd.\, Shakopee\, MN\, 55379\, United States
CATEGORIES:Appearances,Minnesota
END:VEVENT
BEGIN:VEVENT
DTSTART;VALUE=DATE:20230819
DTEND;VALUE=DATE:20230821
DTSTAMP:20260423T012316
CREATED:20230713T155113Z
LAST-MODIFIED:20230713T155113Z
UID:24859-1692403200-1692575999@www.tortugatwins.com
SUMMARY:MINNESOTA RENAISSANCE FESTIVAL
DESCRIPTION:OPENS 19 August.\nWith: Scaramouche and Raphael will perform SIX WEEKENDS!  D'Angelo will do ALL SEVEN weekends\nThe OVERLAP/FINAL WEEKEND will feature guest Tortugas and D'Angelo
URL:https://www.tortugatwins.com/schedule/minnesota-renaissance-festival-11/
LOCATION:Minnesota Renaissance Festival\, 12364 Chestnut Blvd.\, Shakopee\, MN\, 55379\, United States
CATEGORIES:Appearances,Minnesota
END:VEVENT
BEGIN:VEVENT
DTSTART;VALUE=DATE:20230812
DTEND;VALUE=DATE:20230814
DTSTAMP:20260423T012316
CREATED:20230713T154918Z
LAST-MODIFIED:20230713T154918Z
UID:24857-1691798400-1691971199@www.tortugatwins.com
SUMMARY:BRISTOL RENAISSANCE FAIRE
DESCRIPTION:Kenosha\, SIX WEEKENDS opening 8 July With:  Scaramouche\, Raphael and D'Angelo (with guest appearances from other Twins!)
URL:https://www.tortugatwins.com/schedule/bristol-renaissance-faire-11/
LOCATION:Bristol Renaissance Faire\, 12550 120th Ave\,  \, Kenosha\, WI\, 53142\, United States
CATEGORIES:Appearances,Wisconsion
END:VEVENT
BEGIN:VEVENT
DTSTART;VALUE=DATE:20230805
DTEND;VALUE=DATE:20230807
DTSTAMP:20260423T012316
CREATED:20230713T154840Z
LAST-MODIFIED:20230713T154840Z
UID:24855-1691193600-1691366399@www.tortugatwins.com
SUMMARY:BRISTOL RENAISSANCE FAIRE
DESCRIPTION:Kenosha\, SIX WEEKENDS opening 8 July With:  Scaramouche\, Raphael and D'Angelo (with guest appearances from other Twins!)
URL:https://www.tortugatwins.com/schedule/bristol-renaissance-faire-10/
LOCATION:Bristol Renaissance Faire\, 12550 120th Ave\,  \, Kenosha\, WI\, 53142\, United States
CATEGORIES:Appearances,Wisconsion
END:VEVENT
BEGIN:VEVENT
DTSTART;VALUE=DATE:20230729
DTEND;VALUE=DATE:20230731
DTSTAMP:20260423T012316
CREATED:20230713T154809Z
LAST-MODIFIED:20230713T154809Z
UID:24853-1690588800-1690761599@www.tortugatwins.com
SUMMARY:BRISTOL RENAISSANCE FAIRE
DESCRIPTION:Kenosha\, SIX WEEKENDS opening 8 July With:  Scaramouche\, Raphael and D'Angelo (with guest appearances from other Twins!)
URL:https://www.tortugatwins.com/schedule/bristol-renaissance-faire-6/
LOCATION:Bristol Renaissance Faire\, 12550 120th Ave\,  \, Kenosha\, WI\, 53142\, United States
CATEGORIES:Appearances,Wisconsion
END:VEVENT
BEGIN:VEVENT
DTSTART;VALUE=DATE:20230722
DTEND;VALUE=DATE:20230724
DTSTAMP:20260423T012316
CREATED:20230713T154735Z
LAST-MODIFIED:20230713T154735Z
UID:24851-1689984000-1690156799@www.tortugatwins.com
SUMMARY:BRISTOL RENAISSANCE FAIRE
DESCRIPTION:Kenosha\, SIX WEEKENDS opening 8 July With:  Scaramouche\, Raphael and D'Angelo (with guest appearances from other Twins!)
URL:https://www.tortugatwins.com/schedule/bristol-renaissance-faire-5/
LOCATION:Bristol Renaissance Faire\, 12550 120th Ave\,  \, Kenosha\, WI\, 53142\, United States
CATEGORIES:Appearances,Wisconsion
END:VEVENT
BEGIN:VEVENT
DTSTART;VALUE=DATE:20230715
DTEND;VALUE=DATE:20230717
DTSTAMP:20260423T012316
CREATED:20230713T154620Z
LAST-MODIFIED:20230713T154620Z
UID:24849-1689379200-1689551999@www.tortugatwins.com
SUMMARY:BRISTOL RENAISSANCE FAIRE
DESCRIPTION:Kenosha\, SIX WEEKENDS opening 8 July With:  Scaramouche\, Raphael and D'Angelo (with guest appearances from other Twins!)
URL:https://www.tortugatwins.com/schedule/bristol-renaissance-faire-4/
LOCATION:Bristol Renaissance Faire\, 12550 120th Ave\,  \, Kenosha\, WI\, 53142\, United States
CATEGORIES:Appearances,Wisconsion
END:VEVENT
BEGIN:VEVENT
DTSTART;VALUE=DATE:20230708
DTEND;VALUE=DATE:20230710
DTSTAMP:20260423T012316
CREATED:20230713T154339Z
LAST-MODIFIED:20230713T154650Z
UID:24847-1688774400-1688947199@www.tortugatwins.com
SUMMARY:BRISTOL RENAISSANCE FAIRE
DESCRIPTION:Kenosha\, SIX WEEKENDS opening 8 July With:  Scaramouche\, Raphael and D'Angelo (with guest appearances from other Twins!)
URL:https://www.tortugatwins.com/schedule/bristol-renaissance-faire-3/
LOCATION:Bristol Renaissance Faire\, 12550 120th Ave\,  \, Kenosha\, WI\, 53142\, United States
CATEGORIES:Appearances,Wisconsion
END:VEVENT
END:VCALENDAR