BEGIN:VCALENDAR
VERSION:2.0
PRODID:-//Tortuga Twins - ECPv6.15.20//NONSGML v1.0//EN
CALSCALE:GREGORIAN
METHOD:PUBLISH
X-ORIGINAL-URL:https://www.tortugatwins.com
X-WR-CALDESC:Events for Tortuga Twins
REFRESH-INTERVAL;VALUE=DURATION:PT1H
X-Robots-Tag:noindex
X-PUBLISHED-TTL:PT1H
BEGIN:VTIMEZONE
TZID:America/New_York
BEGIN:DAYLIGHT
TZOFFSETFROM:-0500
TZOFFSETTO:-0400
TZNAME:EDT
DTSTART:20220313T070000
END:DAYLIGHT
BEGIN:STANDARD
TZOFFSETFROM:-0400
TZOFFSETTO:-0500
TZNAME:EST
DTSTART:20221106T060000
END:STANDARD
BEGIN:DAYLIGHT
TZOFFSETFROM:-0500
TZOFFSETTO:-0400
TZNAME:EDT
DTSTART:20230312T070000
END:DAYLIGHT
BEGIN:STANDARD
TZOFFSETFROM:-0400
TZOFFSETTO:-0500
TZNAME:EST
DTSTART:20231105T060000
END:STANDARD
BEGIN:DAYLIGHT
TZOFFSETFROM:-0500
TZOFFSETTO:-0400
TZNAME:EDT
DTSTART:20240310T070000
END:DAYLIGHT
BEGIN:STANDARD
TZOFFSETFROM:-0400
TZOFFSETTO:-0500
TZNAME:EST
DTSTART:20241103T060000
END:STANDARD
END:VTIMEZONE
BEGIN:VEVENT
DTSTART;VALUE=DATE:20231118
DTEND;VALUE=DATE:20231120
DTSTAMP:20260423T022955
CREATED:20230713T160611Z
LAST-MODIFIED:20230713T160611Z
UID:24888-1700265600-1700438399@www.tortugatwins.com
SUMMARY:CAROLINA RENAISSANCE FESTIVAL
DESCRIPTION:EIGHT WEEKENDS starting 30 September.\nWith: Scaramouche\, Raphael and Bernardo will perform ALL EIGHT WEEKENDS\, (with possible Guest appearances by D'Angelo and Tuleo)
URL:https://www.tortugatwins.com/schedule/carolina-renaissance-festival-16/
LOCATION:Carolina Renaissance Festival\, 16445 Poplar Tent Road\, Huntersville\, NC\, 28070\, United States
CATEGORIES:Appearances,North Carolina
END:VEVENT
BEGIN:VEVENT
DTSTART;VALUE=DATE:20231111
DTEND;VALUE=DATE:20231113
DTSTAMP:20260423T022955
CREATED:20230713T160510Z
LAST-MODIFIED:20230713T160510Z
UID:24886-1699660800-1699833599@www.tortugatwins.com
SUMMARY:CAROLINA RENAISSANCE FESTIVAL
DESCRIPTION:EIGHT WEEKENDS starting 30 September.\nWith: Scaramouche\, Raphael and Bernardo will perform ALL EIGHT WEEKENDS\, (with possible Guest appearances by D'Angelo and Tuleo)
URL:https://www.tortugatwins.com/schedule/carolina-renaissance-festival-15/
LOCATION:Carolina Renaissance Festival\, 16445 Poplar Tent Road\, Huntersville\, NC\, 28070\, United States
CATEGORIES:Appearances,North Carolina
END:VEVENT
BEGIN:VEVENT
DTSTART;VALUE=DATE:20231104
DTEND;VALUE=DATE:20231106
DTSTAMP:20260423T022955
CREATED:20230713T160438Z
LAST-MODIFIED:20230713T160438Z
UID:24884-1699056000-1699228799@www.tortugatwins.com
SUMMARY:CAROLINA RENAISSANCE FESTIVAL
DESCRIPTION:EIGHT WEEKENDS starting 30 September.\nWith: Scaramouche\, Raphael and Bernardo will perform ALL EIGHT WEEKENDS\, (with possible Guest appearances by D'Angelo and Tuleo)
URL:https://www.tortugatwins.com/schedule/carolina-renaissance-festival-14/
LOCATION:Carolina Renaissance Festival\, 16445 Poplar Tent Road\, Huntersville\, NC\, 28070\, United States
CATEGORIES:Appearances,North Carolina
END:VEVENT
BEGIN:VEVENT
DTSTART;VALUE=DATE:20231028
DTEND;VALUE=DATE:20231030
DTSTAMP:20260423T022955
CREATED:20230713T160349Z
LAST-MODIFIED:20230713T160349Z
UID:24882-1698451200-1698623999@www.tortugatwins.com
SUMMARY:CAROLINA RENAISSANCE FESTIVAL
DESCRIPTION:EIGHT WEEKENDS starting 30 September.\nWith: Scaramouche\, Raphael and Bernardo will perform ALL EIGHT WEEKENDS\, (with possible Guest appearances by D'Angelo and Tuleo)
URL:https://www.tortugatwins.com/schedule/carolina-renaissance-festival-13/
LOCATION:Carolina Renaissance Festival\, 16445 Poplar Tent Road\, Huntersville\, NC\, 28070\, United States
CATEGORIES:Appearances,North Carolina
END:VEVENT
BEGIN:VEVENT
DTSTART;VALUE=DATE:20231021
DTEND;VALUE=DATE:20231023
DTSTAMP:20260423T022955
CREATED:20230713T160237Z
LAST-MODIFIED:20230713T160237Z
UID:24880-1697846400-1698019199@www.tortugatwins.com
SUMMARY:CAROLINA RENAISSANCE FESTIVAL
DESCRIPTION:EIGHT WEEKENDS starting 30 September.\nWith: Scaramouche\, Raphael and Bernardo will perform ALL EIGHT WEEKENDS\, (with possible Guest appearances by D'Angelo and Tuleo)
URL:https://www.tortugatwins.com/schedule/carolina-renaissance-festival-12/
LOCATION:Carolina Renaissance Festival\, 16445 Poplar Tent Road\, Huntersville\, NC\, 28070\, United States
CATEGORIES:Appearances,North Carolina
END:VEVENT
BEGIN:VEVENT
DTSTART;VALUE=DATE:20231014
DTEND;VALUE=DATE:20231016
DTSTAMP:20260423T022955
CREATED:20230713T160132Z
LAST-MODIFIED:20230713T160132Z
UID:24878-1697241600-1697414399@www.tortugatwins.com
SUMMARY:CAROLINA RENAISSANCE FESTIVAL
DESCRIPTION:EIGHT WEEKENDS starting 30 September.\nWith: Scaramouche\, Raphael and Bernardo will perform ALL EIGHT WEEKENDS\, (with possible Guest appearances by D'Angelo and Tuleo)
URL:https://www.tortugatwins.com/schedule/carolina-renaissance-festival-11/
LOCATION:Carolina Renaissance Festival\, 16445 Poplar Tent Road\, Huntersville\, NC\, 28070\, United States
CATEGORIES:Appearances,North Carolina
END:VEVENT
BEGIN:VEVENT
DTSTART;VALUE=DATE:20231007
DTEND;VALUE=DATE:20231009
DTSTAMP:20260423T022955
CREATED:20230713T160022Z
LAST-MODIFIED:20230713T160022Z
UID:24876-1696636800-1696809599@www.tortugatwins.com
SUMMARY:CAROLINA RENAISSANCE FESTIVAL
DESCRIPTION:EIGHT WEEKENDS starting 30 September.\nWith: Scaramouche\, Raphael and Bernardo will perform ALL EIGHT WEEKENDS\, (with possible Guest appearances by D'Angelo and Tuleo)
URL:https://www.tortugatwins.com/schedule/carolina-renaissance-festival-10/
LOCATION:Carolina Renaissance Festival\, 16445 Poplar Tent Road\, Huntersville\, NC\, 28070\, United States
CATEGORIES:Appearances,North Carolina
END:VEVENT
BEGIN:VEVENT
DTSTART;VALUE=DATE:20230930
DTEND;VALUE=DATE:20231002
DTSTAMP:20260423T022955
CREATED:20230713T155929Z
LAST-MODIFIED:20230713T155929Z
UID:24873-1696032000-1696204799@www.tortugatwins.com
SUMMARY:CAROLINA RENAISSANCE FESTIVAL
DESCRIPTION:EIGHT WEEKENDS starting 30 September.\nWith: Scaramouche\, Raphael and Bernardo will perform ALL EIGHT WEEKENDS\, (with possible Guest appearances by D'Angelo and Tuleo)
URL:https://www.tortugatwins.com/schedule/carolina-renaissance-festival-9/
LOCATION:Carolina Renaissance Festival\, 16445 Poplar Tent Road\, Huntersville\, NC\, 28070\, United States
CATEGORIES:Appearances,North Carolina
END:VEVENT
END:VCALENDAR